BEGIN:VCALENDAR
VERSION:2.0
PRODID:gefa.georgia.gov
X-WR-TIMEZONE:America/New_York
BEGIN:VTIMEZONE
TZID:America/New_York
X-LIC-LOCATION:America/New_York
END:VTIMEZONE
BEGIN:VEVENT
UID:613f8e9b3f11d
DTSTART;TZID=UTC:20170123T173000
SEQUENCE:0
TRANSP:OPAQUE
DTEND;TZID=UTC:20170123T173000
URL:https://gefa.georgia.gov/events/2017-01-23/gefa-board-meeting
SUMMARY:GEFA Board Meeting
CLASS:PUBLIC
DTSTAMP:20210913T134707Z
END:VEVENT
END:VCALENDAR