BEGIN:VCALENDAR
VERSION:2.0
PRODID:gefa.georgia.gov
X-WR-TIMEZONE:America/New_York
BEGIN:VTIMEZONE
TZID:America/New_York
X-LIC-LOCATION:America/New_York
END:VTIMEZONE
BEGIN:VEVENT
UID:60889a6c88b04
DTSTART;TZID=UTC:20161004T130000
SEQUENCE:0
TRANSP:OPAQUE
DTEND;TZID=UTC:20161004T130000
URL:https://gefa.georgia.gov/events/2016-10-04/executive-committee-meeting
SUMMARY:Executive Committee Meeting
CLASS:PUBLIC
DESCRIPTION:Meeting time is tentative. The meeting will be held in the GEFA
  boardroom\, which is located in Suite 900 of Harris Tower.
DTSTAMP:20210427T191244Z
END:VEVENT
END:VCALENDAR