BEGIN:VCALENDAR
PRODID:gefa.georgia.gov
VERSION:2.0
CALSCALE:GREGORIAN
BEGIN:VEVENT
UID:cae0ae88d094ba28c1c3d8029d847555
DTSTAMP:20260425T011349Z
SUMMARY:GEFA Executive Committee Meeting
DESCRIPTION:A Telephone Conference Call Meeting of the Executive Board of t
 he Georgia Environmental Finance Authority will be held on Tuesday\, Marc
 h 9\, 2021\, at 10:00 a.m.\n\n\n\nIn accordance with safety precautions re
 garding the COVID-19 virus and in keeping with the Governor’s Declaratio
 n of a Public Health State of Emergency\, members of the public who want t
 o participate in the public meeting must do so via conference call. To par
 ticipate in the public meeting\, please utilize the following toll-free co
 nference call number\, 888-698-8991\, and conference code 4663622951.\n\n\
 n\nTo respond to this notice or to request additional information\, please
  contact GEFA via U.S. mail at 233 Peachtree St NE\, Ste 900\, Atlanta\, G
 A 30303-1506\, via phone at 404-584-1000\, via fax at 404-584-1069\, or at
  gefa.georgia.gov.\n\n\n\nAgenda\n\n\nCall to order\, establishment of a q
 uorum                                          \nLoa
 n applications                                        
                                     \nAdjournment   
  
URL:https://gefa.georgia.gov/events/2021-03-09/gefa-executive-committee-mee
 ting
DTSTART;VALUE=DATE:20210309
X-LIC-LOCATION:America/New_York
X-WR-TIMEZONE:America/New_York
END:VEVENT
BEGIN:VTIMEZONE
TZID:America/New_York
END:VTIMEZONE
END:VCALENDAR
