BEGIN:VCALENDAR
PRODID:gefa.georgia.gov
VERSION:2.0
CALSCALE:GREGORIAN
BEGIN:VEVENT
UID:80ca361f776280476d86b542af59f436
DTSTAMP:20260425T010019Z
SUMMARY:Public Hearing: Weatherization Assistance Program 2021-2022 State P
 lan Submittal
DESCRIPTION:Notice of Public Hearing\n\n\n\nGeorgia Weatherization Assistan
 ce Program for Low-Income Persons\n\n\n\nThe Georgia Environmental Finance
  Authority (GEFA) Energy Resources Division\, will conduct a public hearin
 g regarding the submittal of the 2021-2022 Georgia State Plan and Grant Ap
 plication for the U.S. Department of Energy (DOE) Weatherization Assistanc
 e Program for Low-Income Persons as provided for under the Energy Policy a
 nd Conservation Act (P.L.94-385).\n\n\n\nThe purpose of the hearing is to 
 accept public comments on the proposed 2021-2022 Weatherization Assistance
  Program State Plan for Georgia. The hearing will be held virtually on Jan
 uary 25\, 2021 at 8:30 a.m. Interested participants will be able to give p
 ublic comment by Zoom or call in at:\n\n\n\nJoin Zoom Meeting\nhttps://us0
 2web.zoom.us/j/85847342636?pwd=bWtjdkFuUGpWVi9YMEhzWlpkbFBRUT09\n\n\n\nMee
 ting ID: 858 4734 2636\nPasscode: 131208  \n\n\n\nFind your local number:
  https://us02web.zoom.us/u/kdtKUCYP39\n\n\n\nThe hearing is held pursuant 
 to Title 10 of the Code of Federal Regulations and Section 440.14 of the R
 ules and Regulations of the Weatherization Assistance Program for Low-Inco
 me Persons.\n\n\n\nWritten Comments should be submitted to GEFA\, Energy R
 esources Division\, 233 Peachtree St NE\, Ste 900\, Atlanta\, GA 30303. Wr
 itten comments will be received until January 23\, 2021 at 4:00 p.m.\n\n\n
 \nA copy of the draft state plan is available at GEFA.ga.gov/Energy Resour
 ces/Weatherization Assistance Program/Weatherization Program Documents. Pl
 ease call 404-584-1000 for additional information.
URL:https://gefa.georgia.gov/events/2021-01-25/public-hearing-weatherizatio
 n-assistance-program-2021-2022-state-plan-submittal
DTSTART;VALUE=DATE:20210125
X-LIC-LOCATION:America/New_York
X-WR-TIMEZONE:America/New_York
END:VEVENT
BEGIN:VTIMEZONE
TZID:America/New_York
END:VTIMEZONE
END:VCALENDAR
