BEGIN:VCALENDAR
PRODID:gefa.georgia.gov
VERSION:2.0
CALSCALE:GREGORIAN
BEGIN:VEVENT
UID:0aaa8c8b81d4ee9f831ecfd1c7c4999b
DTSTAMP:20260425T030103Z
SUMMARY:GEFA Board Meeting
DESCRIPTION:A Meeting of the Board of the Georgia Environmental Finance Aut
 hority will be held on Thursday\, November 4\, 2021\, at 9:00 a.m.\n\n\n\
 nIn accordance with safety precautions regarding the COVID-19 virus and in
  keeping with the Governor’s Declaration of a Public Health State of Eme
 rgency\, members of the public who want to participate in the public meeti
 ng must do so via conference call. To participate in the public meeting\, 
 please utilize the following toll-free conference call number\, 888-698-89
 91\, and conference code 4663622951.\n\n\n\n**In person attendees will be 
 required to wear a mask and practice social distancing. **\n\n\n\nTo respo
 nd to this notice or to request additional information\, please contact GE
 FA via U.S. mail at 233 Peachtree St NE\, Ste 900\, Atlanta\, GA 30303-150
 6\, via phone at 404-584-1000\, via fax at 404-584-1069\, or at gefa.georg
 ia.gov.\n\n\n\nAgenda\n\n\nCall to order\, establishment of a quorum   
                                       
    \nAdoption of minutes \n\nAugust 24\, 2021\n\n\nExecutive director’
 s report \n\nEmergency loan – city of Sardis\n\n\nResolutions for servic
 e \n\nGeorge McIntosh\n\n\nNominating Committee report          
                                \nBoard sched
 ule for 2022 \nLoan applications \nFinancial report \n\nCapacity update 
                                      
                                      
          \n\n\nNext board meeting – January 24\, 2022      
                                       
  \nAdjournment                              
                                      
                      
URL:https://gefa.georgia.gov/events/2021-11-04/gefa-board-meeting
DTSTART;VALUE=DATE:20211104
LOCATION:371 Riverview Dr  Jekyll Island\, GA 31527 US
X-LIC-LOCATION:America/New_York
X-WR-TIMEZONE:America/New_York
END:VEVENT
BEGIN:VTIMEZONE
TZID:America/New_York
END:VTIMEZONE
END:VCALENDAR
