BEGIN:VCALENDAR
PRODID:gefa.georgia.gov
VERSION:2.0
CALSCALE:GREGORIAN
BEGIN:VEVENT
UID:a636351039de19e2bd7d9b295e0fd8d9
DTSTAMP:20260425T030132Z
SUMMARY:GEFA Board Meeting
DESCRIPTION:In accordance with safety precautions regarding the COVID-19 vi
 rus and in keeping with the Governor’s Declaration of a Public Health St
 ate of Emergency\, members of the public who want to participate in the pu
 blic meeting must do so via conference call. To participate in the public 
 meeting\, please utilize the following toll-free conference call number\, 
 888-698-8991\, and conference code 4663622951.\n\n\n\n**In person attendee
 s will be required to wear a mask and practice social distancing. **\n\n\n
 \nTo respond to this notice or to request additional information\, please 
 contact GEFA via U.S. mail at 233 Peachtree St NE\, Ste 900\, Atlanta\, GA
  30303-1506\, via phone at 404-584-1000\, via fax at 404-584-1069\, or at 
 gefa.georgia.gov.\n\n\n\nAgenda\n\n\n\nCall to order\, establishment of a 
 quorum                                   
                      \n\n\n\nAdoption of minutes  \n\n\
 nMay 11\, 2021 \n\n\n\n\nExecutive director’s report \n\n\nEmergency loa
 n – Lexington\, city of\n\n\n\n\nAppointment of nominating committee  
                                      
                     \n\n\n\nLoan applications\n\n\n\nFin
 ancial report \n\n\nGEFA FY2021 budget update\nCapacity update      \
 n\n\n\n\nNext board meeting – November 4\, 2021\, Jekyll Island\n\n\n\nA
 djournment                      
URL:https://gefa.georgia.gov/events/2021-08-24/gefa-board-meeting
DTSTART;VALUE=DATE:20210824
LOCATION:47 Trinity Ave SW Fifth Floor  Atlanta\, GA 30334 US
X-LIC-LOCATION:America/New_York
X-WR-TIMEZONE:America/New_York
END:VEVENT
BEGIN:VTIMEZONE
TZID:America/New_York
END:VTIMEZONE
END:VCALENDAR
