BEGIN:VCALENDAR
PRODID:gefa.georgia.gov
VERSION:2.0
CALSCALE:GREGORIAN
BEGIN:VEVENT
UID:6f6a202ba470e189fd6b7ffdaa13fc7f
DTSTAMP:20260425T030103Z
SUMMARY:GEFA Board Meeting
DESCRIPTION:A Meeting of the Board of the Georgia Environmental Finance Aut
 hority will be held on Tuesday\, May 11\, 2021\, at 9:00 a.m.\n\n\n\nIn a
 ccordance with safety precautions regarding the COVID-19 virus and in keep
 ing with the Governor’s Declaration of a Public Health State of Emergenc
 y\, members of the public who want to participate in the public meeting mu
 st do so via conference call. To participate in the public meeting\, pleas
 e utilize the following toll-free conference call number\, 888-698-8991\, 
 and conference code 4663622951.\n\n\n\n**In person attendees will be requi
 red to wear a mask and practice social distancing. **\n\n\n\nTo respond to
  this notice or to request additional information\, please contact GEFA vi
 a U.S. mail at 233 Peachtree St NE\, Ste 900\, Atlanta\, GA 30303-1506\, v
 ia phone at 404-584-1000\, via fax at 404-584-1069\, or at gefa.georgia.go
 v.\n\n\n\n \n\n\n\n \n\n\n\nAgenda\n\n\nCall to order\, establishment of
  a quorum \nAdoption of minutes\n\nJanuary 25\, 2021 and March 9\, 2021\n
 \n\nExecutive director’s report\n\nEmergency loan - Buena Vista\, city o
 f\nEmergency loan - Zebulon city of\n\n\nAdoption of bond resolution\nLoan
  application\nFinancial report\n\nGEFA FY2021 budget update\nGEFA FY2022 o
 perating budget\nCapacity update\n\n\nEnergy Resources Division update  
                                      
                     \nNext board meeting – August 24
 \, 2021\, Atlanta\nAdjournment
URL:https://gefa.georgia.gov/events/2021-05-11/gefa-board-meeting
DTSTART;VALUE=DATE:20210511
LOCATION:100 Rue Charlemagne Dr  Braselton\, GA 30517 US
X-LIC-LOCATION:America/New_York
X-WR-TIMEZONE:America/New_York
END:VEVENT
BEGIN:VTIMEZONE
TZID:America/New_York
END:VTIMEZONE
END:VCALENDAR
