BEGIN:VCALENDAR
PRODID:gefa.georgia.gov
VERSION:2.0
CALSCALE:GREGORIAN
BEGIN:VEVENT
UID:cdec8f0f36e7d5d3b5dbdc7d6565d826
DTSTAMP:20260425T030132Z
SUMMARY:GEFA Board Meeting
DESCRIPTION:A Meeting of the Board of the Georgia Environmental Finance Aut
 hority will be held on Monday\, January 25\, 2021 at 12:30 p.m.\n\n\n\nI
 n accordance with safety precautions regarding the COVID-19 virus and in k
 eeping with the Governor’s Declaration of a Public Health State of Emerg
 ency\, members of the public who want to participate in the public meeting
  must do so via conference call. To participate in the public meeting\, pl
 ease utilize the following toll-free conference call number\, 888-698-8991
 \, and conference code 4663622951.\n\n\n\nTo respond to this notice or to 
 request additional information\, please contact GEFA via U.S. mail at 233 
 Peachtree St NE\, Ste 900\, Atlanta\, GA 30303-1506\, via phone at 404-584
 -1000\, via fax at 404-584-1069\, or at gefa.georgia.gov.\n\n\n\nAgenda\n\
 n\nCall to order\, establishment of a quorum                    
                      \nAdoption of minutes             
                                                  
   \n\nNovember 5\, 2020\n\n\nExecutive director’s report          
                                        \n\nEmergency l
 oan – Dooling\, town of\nEmergency loan – Ludowici\, city of\nEmergenc
 y loan – Metter\, city of\nResolution for State Properties Commission 
 – Flowery Branch\n\n\nGovernor’s budget recommendation        
                                          \nLoan progr
 am policy update                                      
         \nLoan applications\nGEFA FY2020 audit review          
                  \nFinancial report                 
                                      
                 \n\nGEFA FY2021 budget update\nCapacity update
                                    \n\n\nNext board mee
 ting – May 11\, 2021\, TBD                              
             \nAdjournment                \n\n\n\n\n
  
URL:https://gefa.georgia.gov/events/2021-01-25/gefa-board-meeting
DTSTART;VALUE=DATE:20210125
X-LIC-LOCATION:America/New_York
X-WR-TIMEZONE:America/New_York
END:VEVENT
BEGIN:VTIMEZONE
TZID:America/New_York
END:VTIMEZONE
END:VCALENDAR
