BEGIN:VCALENDAR
VERSION:2.0
PRODID:gefa.georgia.gov
X-WR-TIMEZONE:America/New_York
BEGIN:VTIMEZONE
TZID:America/New_York
X-LIC-LOCATION:America/New_York
END:VTIMEZONE
BEGIN:VEVENT
UID:60867c9d50635
DTSTART;TZID=UTC:20200929T140000
SEQUENCE:0
TRANSP:OPAQUE
DTEND;TZID=UTC:20200929T153000
URL:https://gefa.georgia.gov/events/2020-09-29/waterfirst-webinar-watershed
 -assessment
SUMMARY:WaterFirst Webinar: Watershed Assessment 
CLASS:PUBLIC
DTSTAMP:20210426T044101Z
END:VEVENT
END:VCALENDAR