BEGIN:VCALENDAR
VERSION:2.0
PRODID:gefa.georgia.gov
X-WR-TIMEZONE:America/New_York
BEGIN:VTIMEZONE
TZID:America/New_York
X-LIC-LOCATION:America/New_York
END:VTIMEZONE
BEGIN:VEVENT
UID:60867ca24ab10
DTSTART;TZID=UTC:20200922T140000
SEQUENCE:0
TRANSP:OPAQUE
DTEND;TZID=UTC:20200922T153000
URL:https://gefa.georgia.gov/events/2020-09-22/waterfirst-webinar-water-con
 servation-and-education
SUMMARY:WaterFirst Webinar: Water Conservation and Education
CLASS:PUBLIC
DTSTAMP:20210426T044106Z
END:VEVENT
END:VCALENDAR