BEGIN:VCALENDAR
VERSION:2.0
PRODID:gefa.georgia.gov
X-WR-TIMEZONE:America/New_York
BEGIN:VTIMEZONE
TZID:America/New_York
X-LIC-LOCATION:America/New_York
END:VTIMEZONE
BEGIN:VEVENT
UID:613eb9282cf5e
DTSTART;TZID=UTC:20200915T140000
SEQUENCE:0
TRANSP:OPAQUE
DTEND;TZID=UTC:20200915T153000
URL:https://gefa.georgia.gov/events/2020-09-15/waterfirst-stormwater-manage
 ment
SUMMARY:WaterFirst: Stormwater Management 
CLASS:PUBLIC
DTSTAMP:20210912T223624Z
END:VEVENT
END:VCALENDAR