BEGIN:VCALENDAR
VERSION:2.0
PRODID:gefa.georgia.gov
X-WR-TIMEZONE:America/New_York
BEGIN:VTIMEZONE
TZID:America/New_York
X-LIC-LOCATION:America/New_York
END:VTIMEZONE
BEGIN:VEVENT
UID:613eb92e6ca3e
DTSTART;TZID=UTC:20200901T140000
SEQUENCE:0
TRANSP:OPAQUE
DTEND;TZID=UTC:20200901T153000
URL:https://gefa.georgia.gov/events/2020-09-01/waterfirst-webinar-water-sup
 ply-and-wastewater-master-planning
SUMMARY:WaterFirst Webinar: Water Supply and Wastewater Master Planning
CLASS:PUBLIC
DTSTAMP:20210912T223630Z
END:VEVENT
END:VCALENDAR