BEGIN:VCALENDAR
VERSION:2.0
PRODID:gefa.georgia.gov
X-WR-TIMEZONE:America/New_York
BEGIN:VTIMEZONE
TZID:America/New_York
X-LIC-LOCATION:America/New_York
END:VTIMEZONE
BEGIN:VEVENT
UID:613eb93f55651
DTSTART;VALUE=DATE:20200604
SEQUENCE:0
TRANSP:OPAQUE
URL:https://gefa.georgia.gov/events/2020-06-04/gelac-board-meeting
SUMMARY:GELAC Board Meeting
CLASS:PUBLIC
DESCRIPTION:A telephone conference call meeting of the Board of the Georgia
  Environmental Loan Acquisition Corporation will be held on Thursday\, J
 une 4\, 2020\, at 2:00 p.m.\n\n\n\nIn accordance with safety precautions r
 egarding the COVID-19 virus and in keeping with the Governor’s Declarati
 on of a Public Health State of Emergency\, members of the public who want 
 to participate in the public meeting must do so via conference call. To pa
 rticipate in the public meeting\, please utilize the following toll-free c
 onference call number\, 888-698-8991\, and conference code 4663622951.\n\n
 \n\nTo respond to this notice or to request additional information\, pleas
 e contact GELAC via U.S. mail at 233 Peachtree St NE\, Ste 800\, Atlanta\,
  GA 30303-1506\, via phone at 404-584-1000\, via fax at 404-584-1069\, or 
 at gefa.georgia.gov.
X-MICROSOFT-CDO-ALLDAYEVENT:TRUE
DTSTAMP:20210912T223647Z
END:VEVENT
END:VCALENDAR