BEGIN:VCALENDAR
VERSION:2.0
PRODID:gefa.georgia.gov
X-WR-TIMEZONE:America/New_York
BEGIN:VTIMEZONE
TZID:America/New_York
X-LIC-LOCATION:America/New_York
END:VTIMEZONE
BEGIN:VEVENT
UID:613eb934eb19c
DTSTART;TZID=UTC:20200825T140000
SEQUENCE:0
TRANSP:OPAQUE
URL:https://gefa.georgia.gov/events/2020-08-25/gefa-board-meeting
SUMMARY:GEFA Board Meeting
CLASS:PUBLIC
DESCRIPTION:A Meeting of the Board of the Georgia Environmental Finance Aut
 hority will be held on Tuesday\, August 25\, 2020\, at 10:00 a.m. \n\n\n\
 nIn accordance with safety precautions regarding the COVID-19 virus and in
  keeping with the Governor’s Declaration of a Public Health State of Eme
 rgency\, members of the public who want to participate in the public meeti
 ng must do so via conference call. To participate in the public meeting\, 
 please utilize the following toll-free conference call number\, 888-698-89
 91\, and conference code 4663622951.\n\n\n\nTo respond to this notice or t
 o request additional information\, please contact GEFA via U.S. mail at 23
 3 Peachtree St NE\, Ste 900\, Atlanta\, GA 30303-1506\, via phone at 404-5
 84-1000\, via fax at 404-584-1069\, or at gefa.georgia.gov.\n\n\n\nAgenda\
 n\n\nCall to order\, establishment of a quorum                  
                          \nAdoption of minutes\n\nMay 12\, 20
 20 and July 14\, 2020                                  
                                            \n\n\nExe
 cutive director’s report                                
                 \n\nEmergency loan – Concord\, city of\n\n\nAdo
 ption of bond resolution \nAppointment of nominating committee       
                   \nLoan applications\nFinancial report   \n\nG
 EFA FY2020 budget update                         
                            \nCapacity update  
                                           \n\n
 \nNext board meeting – November 5\, 2020\, Atlanta              
             \nAdjournment                
DTSTAMP:20210912T223636Z
END:VEVENT
END:VCALENDAR