BEGIN:VCALENDAR
VERSION:2.0
PRODID:gefa.georgia.gov
X-WR-TIMEZONE:America/New_York
BEGIN:VTIMEZONE
TZID:America/New_York
X-LIC-LOCATION:America/New_York
END:VTIMEZONE
BEGIN:VEVENT
UID:613eb946411e7
DTSTART;TZID=UTC:20200513T140000
SEQUENCE:0
TRANSP:OPAQUE
URL:https://gefa.georgia.gov/events/2020-05-13/public-meeting-additional-su
 pplemental-appropriations-disaster-relief-act-and
SUMMARY:Public Meeting - Additional Supplemental Appropriations for Disaste
 r Relief Act and the 2019 Clean Water State Revolving Fund Intended Use Pl
 ans
CLASS:PUBLIC
DESCRIPTION:The Georgia Environmental Finance Authority (GEFA) and the Geor
 gia Environmental Protection Division (EPD) will hold a public meeting on 
 May 13\, 2020\, at 10:00 a.m. In accordance with safety precautions regard
 ing the COVID-19 virus and in keeping with the Governor’s Declaration of
  a Public Health State of Emergency\, members of the public who want to pa
 rticipate in the public hearing must do so via conference call. The confer
 ence call information is provided below.\n\n\n\nGEFA administers the Clean
  Water and Drinking Water State Revolving Funds\, which are federal low-in
 terest loan programs that help local governments finance water and wastewa
 ter infrastructure projects that protect public health and enhance water q
 uality. In 2020\, GEFA will administer financing provided by the Additiona
 l Supplemental Appropriations for Disaster Relief Act (ASADRA). Signed int
 o law in 2019\, ASADRA provides low-interest financing for water and waste
 water projects in communities impacted by Hurricane Michael.\n\n\n\nThe pu
 rpose of the public meeting is to present and receive comments on the Inte
 nded Use Plans (IUPs) for ASADRA and the revised 2019 Clean Water State Re
 volving Fund. The IUPs outline GEFA’s plans for the programs in the comi
 ng 12 months\, including the implementation of federal funding allocations
 . The public meeting will include a presentation of the IUPs and an opport
 unity for public comment.\n\n\n\nTo participate in the public meeting\, pl
 ease utilize the following toll-free conference call number\, 888-698-8991
 \, and conference code 4663622951.\n\n\n\nTo respond to this notice or to 
 request additional information\, please contact GEFA via U.S. mail at 233 
 Peachtree St NE\, Ste 900\, Atlanta\, GA 30303-1506\, via phone at 404-584
 -1000\, or via fax at 404-584-1069.
DTSTAMP:20210912T223654Z
END:VEVENT
END:VCALENDAR